BEGIN:VCALENDAR
VERSION:2.0
PRODID:-//Luce in Veneto - ECPv5.5.0//NONSGML v1.0//EN
CALSCALE:GREGORIAN
METHOD:PUBLISH
X-WR-CALNAME:Luce in Veneto
X-ORIGINAL-URL:https://www.luceinveneto.com
X-WR-CALDESC:Eventi per Luce in Veneto
BEGIN:VTIMEZONE
TZID:Europe/Rome
BEGIN:DAYLIGHT
TZOFFSETFROM:+0100
TZOFFSETTO:+0200
TZNAME:CEST
DTSTART:20250330T010000
END:DAYLIGHT
BEGIN:STANDARD
TZOFFSETFROM:+0200
TZOFFSETTO:+0100
TZNAME:CET
DTSTART:20251026T010000
END:STANDARD
END:VTIMEZONE
BEGIN:VEVENT
DTSTART;TZID=Europe/Rome:20250925T110000
DTEND;TZID=Europe/Rome:20250925T123000
DTSTAMP:20260425T162556
CREATED:20250911T131308Z
LAST-MODIFIED:20250917T074437Z
UID:39809-1758798000-1758803400@www.luceinveneto.com
SUMMARY:Registro RENTRI nuovi obblighi e scadenze per la gestione dei rifiuti delle aziende lighting
DESCRIPTION:Giovedì 25 settembre 2025 dalle 11:00 alle 12:30 Luce in Veneto organizza un incontro ibrifo dedicato agli obblighi per le aziende del comparto illuminotecnico con l’introduzione del Registro Elettronico Nazionale per la Tracciabilità dei Rifiuti (RENTRI). \nEsperti della società RESTART ENGINEERING approfondiranno le nuove incombenze introdotte dalla normativa RENTRI e le relative scadenze. \nL’appuntamento si svolgerà presso la sede della Rete di imprese Luce in Veneto (Via dei Marcello\, 13/11\, 35017 Levada PD) e online. \n11:00 – 11:15 | Saluti introduttivi e presentazione Convenzione con Restart Engeering \n\n\n\n\nIng. Alberto Sozza\, Presidente Rete di Imprese Luce in Veneto \n  \n\n\n\n\n11:15 – 12:15 \nApprofondimento normativo in merito agli obblighi aziendali a seguito dell’introduzione del RENTRI \n\n\n\n\nIng. Paolo Vivian\, Restart Engineering \n\n\n\n\nFunzionamento e aspetti operativi pratici per la gestione dei formulari rifiuti\, del registro di carico/scarico e dei servizi di supporto alle aziende del comparto illuminotecnico \n\n\nDott. Silvio Volpi\, Restart Engineering \n  \n\n\n\n\n12:15 – 12:30 | Q&A e conclusioni \n\n\n\n  \n\nPARTECIPA ALL’INCONTRO \n\n\n\nLa partecipazione è gratuita previa registrazione
URL:https://www.luceinveneto.com/event/registro-rentri-gestione-dei-rifiuti-delle-aziende-lighting/
LOCATION:Via dei Marcello\, 13/11\, 35017 Levada PD\, Via dei Marcello\, 13/11\, Villa Ca' Marcello\, Levada di Piombino Dese\, PD\, 35017\, Italia
CATEGORIES:Convenzioni,Focus tematici
ATTACH;FMTTYPE=image/png:https://www.luceinveneto.com/wp-content/uploads/2025/09/Restart_Webinar_Social_1.png
END:VEVENT
END:VCALENDAR