BEGIN:VCALENDAR
VERSION:2.0
PRODID:-//Luce in Veneto - ECPv5.5.0//NONSGML v1.0//EN
CALSCALE:GREGORIAN
METHOD:PUBLISH
X-WR-CALNAME:Luce in Veneto
X-ORIGINAL-URL:https://www.luceinveneto.com
X-WR-CALDESC:Eventi per Luce in Veneto
BEGIN:VTIMEZONE
TZID:Europe/Rome
BEGIN:DAYLIGHT
TZOFFSETFROM:+0100
TZOFFSETTO:+0200
TZNAME:CEST
DTSTART:20240331T010000
END:DAYLIGHT
BEGIN:STANDARD
TZOFFSETFROM:+0200
TZOFFSETTO:+0100
TZNAME:CET
DTSTART:20241027T010000
END:STANDARD
END:VTIMEZONE
BEGIN:VEVENT
DTSTART;TZID=Europe/Rome:20240228T150000
DTEND;TZID=Europe/Rome:20240228T163000
DTSTAMP:20260425T004030
CREATED:20240221T112245Z
LAST-MODIFIED:20240221T112245Z
UID:37639-1709132400-1709137800@www.luceinveneto.com
SUMMARY:PROGETTO SILEO - SESSIONE INFORMATIVA ONLINE PER I 2 NUOVI BANDI SILEO PER LA TRASFORMAZIONE DIGITALE DELLE PMI
DESCRIPTION:PROGETTO SILEO – SESSIONE INFORMATIVA ONLINE PER I 2 NUOVI BANDI SILEO PER LA TRASFORMAZIONE DIGITALE DELLE PMI \n𝗣𝗿𝗼𝗴𝗲𝘁𝘁𝗼 𝗦𝗜𝗟𝗘𝗢 – 𝗦𝗲𝘀𝘀𝗶𝗼𝗻𝗲 𝗶𝗻𝗳𝗼𝗿𝗺𝗮𝘁𝗶𝘃𝗮 𝗼𝗻𝗹𝗶𝗻𝗲 𝘀𝘂𝗶 𝟮 𝗻𝘂𝗼𝘃𝗶 𝗯𝗮𝗻𝗱𝗶 𝗦𝗜𝗟𝗘𝗢 𝗽𝗲𝗿 𝗹𝗮 𝘁𝗿𝗮𝘀𝗳𝗼𝗿𝗺𝗮𝘇𝗶𝗼𝗻𝗲 𝗱𝗶𝗴𝗶𝘁𝗮𝗹𝗲 𝗱𝗲𝗹𝗹𝗲 𝗣𝗠𝗜 𝗲 𝗽𝗿𝗲𝘀𝗲𝗻𝘁𝗮𝘇𝗶𝗼𝗻𝗲 𝘁𝗲𝗰𝗵𝗻𝗼𝗹𝗼𝗴𝘆 𝗽𝗿𝗼𝘃𝗶𝗱𝗲𝗿𝘀 𝘃𝗮𝗹𝗶𝗱𝗮𝘁𝗶 𝗱𝗮 𝗟𝘂𝗰𝗲 𝗶𝗻 𝗩𝗲𝗻𝗲𝘁𝗼 \n 𝗠𝗲𝗿𝗰𝗼𝗹𝗲𝗱𝗶̀ 𝟮𝟴 𝗙𝗲𝗯𝗯𝗿𝗮𝗶𝗼 𝟮𝟬𝟮𝟰 𝗼𝗿𝗲 𝟭𝟱:𝟬𝟬 – 𝟭𝟲:𝟯𝟬\n \nRete di Imprese Luce in Veneto organizza una sessione informativa online in italiano per presentare le opportunità per le PMI dei settori lighting e arredamento nell’ambito di due nuovi bandi attualmente aperti\, volti a facilitare la trasformazione digitale e l’adozione di nuove Tecnologie nei processi aziendali:\n \n𝟮° 𝗕𝗮𝗻𝗱𝗼 𝗦𝗜𝗟𝗘𝗢 “𝗕𝘂𝘀𝗶𝗻𝗲𝘀𝘀 𝗗𝗶𝗴𝗶𝘁𝗮𝗹 𝗧𝗿𝗮𝗻𝘀𝗳𝗼𝗿𝗺𝗮𝘁𝗶𝗼𝗻 𝗣𝗿𝗼𝗷𝗲𝗰𝘁𝘀”. \nLe PMI potranno ricevere un 𝘃𝗼𝘂𝗰𝗵𝗲𝗿 𝗳𝗶𝗻𝗼 𝗮 € 𝟱.𝟬𝟬𝟬 per l’accesso e all’implementazione di specifiche consulenze attraverso la collaborazione con fornitori tecnologici ed esperti di digitalizzazione validati dal Consorzio\, inseriti nella lista ufficiale denominata “SILEO Pool of Technology Uptake Facilitators”.\n \n𝟭° 𝗕𝗮𝗻𝗱𝗼 𝗦𝗜𝗟𝗘𝗢 “𝗔𝗱𝘃𝗮𝗻𝗰𝗲𝗱 𝗧𝗲𝗰𝗵𝗻𝗼𝗹𝗼𝗴𝘆 𝗨𝗽𝘁𝗮𝗸𝗲 𝗣𝗿𝗼𝗷𝗲𝗰𝘁𝘀”. \nLe PMI potranno ricevere un 𝘃𝗼𝘂𝗰𝗵𝗲𝗿 𝗳𝗶𝗻𝗼 𝗮 € 𝟭𝟬.𝟱𝟬𝟬 per lo sviluppo di prodotti e servizi strategici\, migliorare i loro processi e metodologie aziendali e per l’individuazione di nuove opportunità di crescita\, dal punto di vista digitale e circolare\, in collaborazione con i fornitori di tecnologia ed esperti di digitalizzazione accreditati dal progetto e inseriti nella lista ufficiale denominata “SILEO Pool of Technology Uptake Facilitators”.\n \nDurante il webinar\, le aziende avranno l’opportunità di approfondire le modalità di partecipazione e di conoscere i 𝘁𝗲𝗰𝗵𝗻𝗼𝗹𝗼𝗴𝘆 𝗽𝗿𝗼𝘃𝗶𝗱𝗲𝗿𝘀 validati dal Luce in Veneto: CUBIT S.C.A.R.L. – EDALAB – FORMA SRL – GALILEO VISIONARY DISTRICT – INVENTRONICS S.R.L. – LIGHTCUBE SRL – MATERIALLY SRL IMPRESA SOCIALE – OFFICINA DIGITALE SRL – RAWFISH SRL – SKEINHOLDING S.R.L. – SMACT SCPA – VECTION ITALY SRL – VISUP SRL\n \n𝗟’𝗶𝗻𝗰𝗼𝗻𝘁𝗿𝗼 𝘀𝗶 𝘁𝗲𝗿𝗿à 𝗼𝗻𝗹𝗶𝗻𝗲 𝗶𝗻 𝗶𝘁𝗮𝗹𝗶𝗮𝗻𝗼 𝗲𝗱 è 𝗮𝗽𝗲𝗿𝘁𝗼 𝗮 𝘁𝘂𝘁𝘁𝗲 𝗹𝗲 𝗮𝘇𝗶𝗲𝗻𝗱𝗲. \nPer iscrizioni e maggiorni info contattare Antonella Venza | info@luceinveneto.com
URL:https://www.luceinveneto.com/event/progetto-sileo-sessione-informativa-online-per-i-2-nuovi-bandi-sileo-per-la-trasformazione-digitale-delle-pmi/
LOCATION:Online
CATEGORIES:Internazionalizzazione,Ricerca e sviluppo
ATTACH;FMTTYPE=image/png:https://www.luceinveneto.com/wp-content/uploads/2024/02/2024.02.28_SessioneInfo_Bandi-SILEO.png
END:VEVENT
END:VCALENDAR