BEGIN:VCALENDAR
VERSION:2.0
PRODID:-//Luce in Veneto - ECPv5.5.0//NONSGML v1.0//EN
CALSCALE:GREGORIAN
METHOD:PUBLISH
X-WR-CALNAME:Luce in Veneto
X-ORIGINAL-URL:https://www.luceinveneto.com
X-WR-CALDESC:Eventi per Luce in Veneto
BEGIN:VTIMEZONE
TZID:Europe/Rome
BEGIN:DAYLIGHT
TZOFFSETFROM:+0100
TZOFFSETTO:+0200
TZNAME:CEST
DTSTART:20230326T010000
END:DAYLIGHT
BEGIN:STANDARD
TZOFFSETFROM:+0200
TZOFFSETTO:+0100
TZNAME:CET
DTSTART:20231029T010000
END:STANDARD
END:VTIMEZONE
BEGIN:VEVENT
DTSTART;TZID=Europe/Rome:20231219T100000
DTEND;TZID=Europe/Rome:20231219T110000
DTSTAMP:20260424T140144
CREATED:20231215T093554Z
LAST-MODIFIED:20231215T093554Z
UID:37545-1702980000-1702983600@www.luceinveneto.com
SUMMARY:PROGETTO SILEO - SESSIONE INFORMATIVA BANDO "TALENT PLACEMENT PROJECTS"
DESCRIPTION:PROGETTO SILEO – sessione informativa bando “talent placement projects”\nLuce in Veneto\, nell’ambito del progetto SILEO (Eurocluster)\, offre l’opportunità alle PMI del settore illuminotecnico e arredamento di ricevere un voucher fino a 4000 € per l’inserimento in azienda di personale qualificato allo scopo di facilitare il processo di trasformazione digitale e green.\nPer poter accedere al voucher è necessario fare apposita istanza entro le  ore 17:00 del 30 gennaio 2024 . \nAl fine di presentare le modalità operative per accedere al Bando\, Luce in Veneto ha organizzato un webinar informativo online che si terrà martedì 19 Dicembre 2023 alle ore 10:00-11:00. \n🔗Per la registrazione al webinar\, clicca qui. \nScopri di più sul bando SILEO “Talent Placement Projects” o contattaci per qualsiasi informazione: info@luceinveneto.com
URL:https://www.luceinveneto.com/event/progetto-sileo-sessione-informativa-bando-talent-placement-projects/
LOCATION:Online
CATEGORIES:Convegni,Formazione
ATTACH;FMTTYPE=image/png:https://www.luceinveneto.com/wp-content/uploads/2023/12/SILEO-19.12.23_InfoSession.png
END:VEVENT
END:VCALENDAR