BEGIN:VCALENDAR
VERSION:2.0
PRODID:-//Luce in Veneto - ECPv5.5.0//NONSGML v1.0//EN
CALSCALE:GREGORIAN
METHOD:PUBLISH
X-WR-CALNAME:Luce in Veneto
X-ORIGINAL-URL:https://www.luceinveneto.com
X-WR-CALDESC:Eventi per Luce in Veneto
BEGIN:VTIMEZONE
TZID:Europe/Rome
BEGIN:DAYLIGHT
TZOFFSETFROM:+0100
TZOFFSETTO:+0200
TZNAME:CEST
DTSTART:20230326T010000
END:DAYLIGHT
BEGIN:STANDARD
TZOFFSETFROM:+0200
TZOFFSETTO:+0100
TZNAME:CET
DTSTART:20231029T010000
END:STANDARD
END:VTIMEZONE
BEGIN:VEVENT
DTSTART;TZID=Europe/Rome:20230222T150000
DTEND;TZID=Europe/Rome:20230222T173000
DTSTAMP:20260424T143037
CREATED:20230221T093319Z
LAST-MODIFIED:20230221T093319Z
UID:37022-1677078000-1677087000@www.luceinveneto.com
SUMMARY:PROGETTO EXTRALIGHT - WEBINAR "Partecipazione bandi pubblici USA/CANADA: incontro di approfondimento sulle opportunità per le PMI del lighting"
DESCRIPTION:Partecipazione bandi pubblici USA/CANADA: incontro di approfondimento sulle opportunità per le PMI del lighting \n📅 Mercoledì 22 Febbraio dalle ore 15:00 alle 17:30 📅 \nRete di Imprese Luce in Veneto\, nell’ambito del progetto europeo EXTRA LIGHT (Programma COSME)\, organizza un webinar di approfondimento sul tema degli appalti pubblici USA e Canada.\nIn tale occasione l’Avv. Pulcinelli da New York e il Dott. Giacomelli dal Canada seguiranno passo dopo passo le aziende nel reperimento dei bandi e nella selezione di quelli con maggiori opportunità per le aziende del settore illuminazione. Verranno esaminati bandi in corso o di recente chisura con particolare focus sui bandi relativi a immobili ubicati nel territorio europeo (ambasciate\, basi militare\, residenze personale distaccato..) che possono offrire interessanti opportunità per le aziende della Rete. \n\n\n\n\n\n\n\nAGENDA\n\n\n\n\n\n\n\n\n\n\n\n\n\n\nOre 15:00\n\n\n\n\n\n\nSaluti introduttivi e presentazione del progetto EXTRA LIGHT\nAlberto Sozza – Presidente Rete di Imprese Luce in veneto\n\n\n\n\n\n\n\n\n\n\n\n\n\n\nOre 15:15\n\n\n\n\n\n\nPresentazione bandi pubblici USA\nAvv. Isabella Pulcinelli\, Pulcinelli Consulting\n\n\n\n\n\n\n\n\n\n\n\n\n\n\nOre 16:15\n\n\n\n\n\n\nPresentazione bandi pubblici CANADA\nDott. Mario Giacomelli\, International Business Consultant\n\n\n\n\n\n\n\n\n\n\n\n\n\n\nOre 17:15\n\n\n\n\n\n\nSessione di domande e conclusioni\n\n\n\n\n\n\n\n  \nPer maggiori info e iscrizioni | info@luceinveneto.com
URL:https://www.luceinveneto.com/event/progetto-extralight-webinar-partecipazione-bandi-pubblici-usa-canada-incontro-di-approfondimento-sulle-opportunita-per-le-pmi-del-lighting/
LOCATION:Online
CATEGORIES:Internazionalizzazione
ATTACH;FMTTYPE=image/jpeg:https://www.luceinveneto.com/wp-content/uploads/2023/02/extralight-workroom.jpg
END:VEVENT
END:VCALENDAR