BEGIN:VCALENDAR
VERSION:2.0
PRODID:-//Luce in Veneto - ECPv5.5.0//NONSGML v1.0//EN
CALSCALE:GREGORIAN
METHOD:PUBLISH
X-WR-CALNAME:Luce in Veneto
X-ORIGINAL-URL:https://www.luceinveneto.com
X-WR-CALDESC:Eventi per Luce in Veneto
BEGIN:VTIMEZONE
TZID:Europe/Rome
BEGIN:DAYLIGHT
TZOFFSETFROM:+0100
TZOFFSETTO:+0200
TZNAME:CEST
DTSTART:20240331T010000
END:DAYLIGHT
BEGIN:STANDARD
TZOFFSETFROM:+0200
TZOFFSETTO:+0100
TZNAME:CET
DTSTART:20241027T010000
END:STANDARD
END:VTIMEZONE
BEGIN:VEVENT
DTSTART;TZID=Europe/Rome:20240303T080000
DTEND;TZID=Europe/Rome:20240308T180000
DTSTAMP:20260424T134651
CREATED:20240226T084607Z
LAST-MODIFIED:20240226T084607Z
UID:37643-1709452800-1709920800@www.luceinveneto.com
SUMMARY:LUCE IN VENETO A LIGHT+BUILDING 2024
DESCRIPTION:LA RETE DI IMPRESE LUCE IN VENETO SARÁ PRESENTE ALLA FIERA LIGHT+BUILDING DI FRANCOFORTE\, germania\nSiamo entusiasti di annunciare che\, anche quest’anno\, parteciperemo alla prestigiosa fiera Light + Building di Francoforte\, dal 3 al 8 marzo 2024\, nella Hall 4.1 presso lo Stand F0Y9. \nAvremo il piacere di incontrare professionisti e aziende del #settorelighting durante lo svolgimento della fiera\, per discutere delle ultime #innovazioni e servizi offerte dalla Rete. \nVi aspettiamo il giorno 5 marzo alle ore 17.00 presso lo stand Luce in Veneto per un momento di condivisione durante nostro Networking Cocktail.
URL:https://www.luceinveneto.com/event/light-building-2024/
LOCATION:Light+Building\, Francoforte\, Ludwig-Erhard-Anlage 1\, 60327 Frankfurt am Main\, Germany\, Germania
CATEGORIES:Convegni
ATTACH;FMTTYPE=image/png:https://www.luceinveneto.com/wp-content/uploads/2024/02/LIV-Reminder-Presenza-LB.png
END:VEVENT
END:VCALENDAR