BEGIN:VCALENDAR
VERSION:2.0
PRODID:-//Luce in Veneto - ECPv5.5.0//NONSGML v1.0//EN
CALSCALE:GREGORIAN
METHOD:PUBLISH
X-WR-CALNAME:Luce in Veneto
X-ORIGINAL-URL:https://www.luceinveneto.com
X-WR-CALDESC:Eventi per Luce in Veneto
BEGIN:VTIMEZONE
TZID:Europe/Rome
BEGIN:DAYLIGHT
TZOFFSETFROM:+0100
TZOFFSETTO:+0200
TZNAME:CEST
DTSTART:20250330T010000
END:DAYLIGHT
BEGIN:STANDARD
TZOFFSETFROM:+0200
TZOFFSETTO:+0100
TZNAME:CET
DTSTART:20251026T010000
END:STANDARD
END:VTIMEZONE
BEGIN:VEVENT
DTSTART;TZID=Europe/Rome:20250909T080000
DTEND;TZID=Europe/Rome:20250909T170000
DTSTAMP:20260424T193418
CREATED:20250909T122139Z
LAST-MODIFIED:20250909T122139Z
UID:39803-1757404800-1757437200@www.luceinveneto.com
SUMMARY:Internazionalizzazione e opportunità commerciali nei mercati emergenti: Germania/Polonia
DESCRIPTION:📅 Mercoledì 11 giugno 2025 | Ore 15:30 – 17:00📍 Focus webinar Centro Europa – Germania e Polonia \n\nIl prossimo 11 giugno dalle 15:30 alle 17:00\, Luce in Veneto organizza il terzo incontro del ciclo di webinar dedicato all’internazionalizzazione delle aziende retiste\, in collaborazione con la Rete italDesk. \nFocus dell’incontro:\nIl webinar si propone di fornire una visione chiara e operativa per affrontare i mercati tedesco e polacco\, due realtà vicine ma estremamente competitive. L’obiettivo è illustrare come intercettare le nuove opportunità di domanda\, in particolare nel segmento premium in Polonia\, e al contempo aggiornare il proprio modello commerciale per rispondere alle necessità e alle dinamiche della Germania.\nAttraverso l’esperienza di professionisti del settore\, scopriremo come pianificare l’export in modo efficace\, valorizzando il ruolo strategico del Local Export Manager per radicare la presenza commerciale sul territorio estero.
URL:https://www.luceinveneto.com/event/internazionalizzazione-e-opportunita-commerciali-nei-mercati-emergenti-germania-polonia/
CATEGORIES:Internazionalizzazione
ATTACH;FMTTYPE=image/png:https://www.luceinveneto.com/wp-content/uploads/2025/09/Focus-webinar-Germania_Polonia_social.png
END:VEVENT
END:VCALENDAR