BEGIN:VCALENDAR
VERSION:2.0
PRODID:-//Luce in Veneto - ECPv5.5.0//NONSGML v1.0//EN
CALSCALE:GREGORIAN
METHOD:PUBLISH
X-WR-CALNAME:Luce in Veneto
X-ORIGINAL-URL:https://www.luceinveneto.com
X-WR-CALDESC:Eventi per Luce in Veneto
BEGIN:VTIMEZONE
TZID:Europe/Rome
BEGIN:DAYLIGHT
TZOFFSETFROM:+0100
TZOFFSETTO:+0200
TZNAME:CEST
DTSTART:20250330T010000
END:DAYLIGHT
BEGIN:STANDARD
TZOFFSETFROM:+0200
TZOFFSETTO:+0100
TZNAME:CET
DTSTART:20251026T010000
END:STANDARD
END:VTIMEZONE
BEGIN:VEVENT
DTSTART;TZID=Europe/Rome:20250516T090000
DTEND;TZID=Europe/Rome:20250516T174000
DTSTAMP:20260421T184625
CREATED:20250512T125948Z
LAST-MODIFIED:20250512T130200Z
UID:39470-1747386000-1747417200@www.luceinveneto.com
SUMMARY:GIORNATA INTERNAZIONALE DELLA LUCE 2025
DESCRIPTION:📅 Giornata Internazionale della Luce | 16 maggio 2025 – Venezia \nLa luce è scienza\, cultura\, design\, tecnologia. \nLuceInVeneto sarà tra i protagonisti dell’evento organizzato dall’Università Iuav di Venezia in occasione della Giornata Internazionale della Luce UNESCO. \n📍 Aula Magna IUAV – Tolentini\, Venezia \n🕘 Dalle 9:00 alle 17:40 \n🎙️La giornata prevede numerosi interventi di docenti\, designer\, imprese e studenti. Saranno approfondite le numerose forme della luce: invisibile\, percepita\, modellata\, progettata\, controllata… e anche vestita\, grazie all’intervento del presidente della Rete Alberto Sozza che parlerà dell’importante ruolo delle aziende della Rete Innovativa Regionale nel realizzare apparecchi di illuminazione sartoriali Made in Italy apprezzati in tutto il mondo \n🔗 Programma completo e dettagli: https://www.iuav.it/it/eventi/giornata-internazionale-della-luce-unesco \n 
URL:https://www.luceinveneto.com/event/giornata-internazionale-della-luce-2025/
LOCATION:Tolentini\, Venezia\, Aula Magna Tolentini\, Venezia\, Italia
CATEGORIES:Convegni
ATTACH;FMTTYPE=image/png:https://www.luceinveneto.com/wp-content/uploads/2025/05/Giornata-Internazionale-della-Luce-2025.png
END:VEVENT
END:VCALENDAR