BEGIN:VCALENDAR
VERSION:2.0
PRODID:-//Luce in Veneto - ECPv5.5.0//NONSGML v1.0//EN
CALSCALE:GREGORIAN
METHOD:PUBLISH
X-WR-CALNAME:Luce in Veneto
X-ORIGINAL-URL:https://www.luceinveneto.com
X-WR-CALDESC:Eventi per Luce in Veneto
BEGIN:VTIMEZONE
TZID:Europe/Rome
BEGIN:DAYLIGHT
TZOFFSETFROM:+0100
TZOFFSETTO:+0200
TZNAME:CEST
DTSTART:20230326T010000
END:DAYLIGHT
BEGIN:STANDARD
TZOFFSETFROM:+0200
TZOFFSETTO:+0100
TZNAME:CET
DTSTART:20231029T010000
END:STANDARD
END:VTIMEZONE
BEGIN:VEVENT
DTSTART;TZID=Europe/Rome:20231113T090000
DTEND;TZID=Europe/Rome:20231113T130000
DTSTAMP:20260419T213319
CREATED:20231010T120209Z
LAST-MODIFIED:20231026T090651Z
UID:37389-1699866000-1699880400@www.luceinveneto.com
SUMMARY:DIALOGHI PER L'INNOVAZIONE 2: #SMARTCITY
DESCRIPTION:DIALOGHI PER L’INNOVAZIONE • 𝟮: #SMARTCITY\nLa Regione del Veneto\, in collaborazione con Rete di Imprese Luce in Veneto nel contesto del progetto europeo EPIX\, presenta il secondo appuntamento di “Dialoghi per l’innovazione” il format dedicato ad approfondire le tematiche connesse alla Strategia di Specializzazione Intelligente (S3) del Veneto. In questo evento si parlerà di smart city\, approfondendo quindi le innovazioni e soluzioni tecnologiche che vengono implementate nelle aree urbane per migliorare la qualità della vita dei suoi residenti. \nL’evento prevede una prima sessione con esperti e presentazione di casi di successo dal nostro territorio e a seguire un confronto con i rappresentanti delle Reti Innovative Regionali e del territorio\, volto ad approfondire le possibili soluzioni tecnologiche in risposta ai bisogni delle città. Verrà\, inoltre\, illustrato il progetto europeo EPIX (co-finanziato dal programma COSME) e\, in particolare\, i risultati dell’iniziativa “Smart City Factory” svolta in collaborazione con la Federazione dei Comuni del Camposampierese-IPA del Camposampierese. \nSono previsti i saluti istituzionali dell’Assessore Roberto Marcato. \nL’incontro si concluderà con un networking light lunch. La partecipazione è gratuita ma l’iscrizione\, per motivi organizzativi\, è obbligatoria. \nAgenda completa e iscrizione qui: https://www.eventbrite.it/e/biglietti-dialoghi-per-linnovazione-2-smartcity-731770895447?aff=oddtdtcreator \nPer ulteriori informazioni: innoveneto.org | luceinveneto.com
URL:https://www.luceinveneto.com/event/dialoghi-per-linnovazione-2-smartcity/
LOCATION:Villa Ca Marcello\, Via dei Marcello n°13/11\, Levada di Piombino Dese (PD)\, PD\, 35017\, Italia
CATEGORIES:Convegni,Ricerca e sviluppo
ATTACH;FMTTYPE=image/png:https://www.luceinveneto.com/wp-content/uploads/2023/10/13.11.23_Banner_Eventbrite.png
END:VEVENT
END:VCALENDAR